Workbook
Name _Hlk124247268: Istruzioni_Compilazione!#REF!
Name D100_ABB: ELENCO!$BB$12:$BB$17
Name D100_RIC: ELENCO!$BB$26:$BB$31
Name D30_ABB: ELENCO!$BB$5:$BB$10
Name D30_RIC: ELENCO!$BB$19:$BB$24
Name DA: ELENCO!$AS$3:$AS$6
Name DB: ELENCO!$AS$7:$AS$10
Name DC: ELENCO!$AS$11:$AS$14
Name DD: ELENCO!$AS$15:$AS$18
Name DE: ELENCO!$AS$19:$AS$22
Name DF: ELENCO!$AS$23:$AS$26
Name DG: ELENCO!$AS$27:$AS$30
Name DH: ELENCO!$AS$31:$AS$34
Name Dual: ELENCO!$C$3
Name Dual_NA: ELENCO!$C$4
Name KO_D30_D10_ABB_RIC: ELENCO!$BB$3
Name Premium: ELENCO!$AI$3:$AI$4
Name Ricarica_di_Emergenza_Taglio_ricarica: ELENCO!$W$3
Name Ricarica_di_Emergenza_Taglio_ricarica__NA: ELENCO!$W$4
Name SIM_DATI_Secondaria: ELENCO!$N$9:$N$10
Name SIM_DATI_Secondaria_NA: ELENCO!$N$4
Name StandardPrioritaria: ELENCO!$AH$3:$AH$30
Name Traffico_oltre_soglia_KO: ELENCO!$F$4
Name Traffico_oltre_soglia_MINUTI_ITZ_e_SMS_a_consumo: ELENCO!$F$3:$F$4
Name Traffico_Roaming_SEE_DATI: ELENCO!$AK$3:$AK$27
Name Traffico_Roaming_SEE_VOCE: ELENCO!$AJ$3:$AJ$33
Name VA: ELENCO!$AN$3:$AN$6
Name VB: ELENCO!$AN$7:$AN$10
Name VC: ELENCO!$AN$11:$AN$14
Name VD: ELENCO!$AN$15:$AN$18
Name VE: ELENCO!$AN$19:$AN$22
Name VF: ELENCO!$AN$23:$AN$26
Name VG: ELENCO!$AN$27:$AN$30
Name VH: ELENCO!$AN$31:$AN$34
Name VI: ELENCO!$AN$35:$AN$38
Name VL: ELENCO!$AN$39:$AN$42

Sheet Istruzioni_Compilazione
B1: Modulo Attivazione Utenze CONDIVISE e Portabilita e Terminali (SIM) e relativa configurazione- Istruzioni per la compilazione
B4: 1) Il presente modulo deve essere inviato online, tramite il portale www.acquistinretepa.it, inserito come allegato all'ORDINE PRINCIPALE e/O SUCCESSIVO-MODIFICATIVO. 2) Il foglio RIEPILOGO UTENZE - OFFERTA non deve essere compilato in quanto visualizza una sintesi delle configurazioni ordinate. 3) Le SIM saranno disabilitate di Default ai servizi CSP (forniti cioè da content service provider e corrispondenti a servizi premium a sovraprezzo) 4) in CASO DI ATTO SUCCESSIVO/MODIFICATIVO inserire nel presente modulo solo le utenze, i terminali e i servizi in Aumento (si veda la guida alla convenzione nota. pag 49)
B5: IMPORTANTE: La causa più frequente di rifiuti nel processo di Portabilità da parte dell'Operatore di Provenienza è dovuta ad errori nell'indicazione della Ragione Sociale e della Partita IVA intestatarie della numerazione oggetto della richiesta di portabilità, che devono necessariamente essere coincidenti con quanto riportato sui sistemi CRM dell'Operatore di Provenienza. A tutela dell'Amministrazione si richiede di incollare nel foglio "FATTURA" di questo modulo, l'intestazione della prima pagina dell'ultima fattura emessa dell'Operatore di Provenienza in cui siano evidenti i campi di intestazione (Ragione Sociale e PIVA), al fine di minimizzare i rifiuti da parte dell'operatore donating e accelerare la gestione di eventuali rilavorazioni evitando inutili ritardi nelle procedure di portabilità.
B6: ISTRUZIONI OPERATIVE:
B7: 1) Compilare il FOGLIO DATI GENERALI
B8: 2) Compilare il FOGLIO ELENCO SEDI
B9: 3) Compilare il FOGLIO TERMINALI
B10: NOTA: nel FOGLIO TERMINALI selezonare la TIPOLOGIA di terminale, la QUANTITA' e il numero di SEDE associato (nel foglo precedente) in cui effettuare a spedizione.
C11: Nella tabella iniziale sono riportati tutti terminali disponibili in funzione della tipologia di Utenza "Standard/Prioritaria" e "Premium":
C12: Tipologia Utenza | D12: Tipologia Terminale | E12: Marca Terminale | F12: Modello Terminale
C13: Standard/Prioritaria | D13: Profilo Base - Android brand 1 | E13: Samsung | F13: Samsung A33 5G EE
D14: Profilo Base - Android brand 2 | E14: Honor | F14: Honor Magic 5 Lite 5G
D15: Profilo Base - Android brand 3 | E15: Motorola | F15: Motorola G62 5G
D16: Profilo Intermedio - Android brand 1 | E16: Samsung | F16: Samsung A34 5G 8-256GB EE
D17: Profilo Intermedio - Android brand 2 | E17: Honor | F17: Honor 90 Lite
D18: Profilo Intermedio - Android brand 3 | E18: Motorola | F18: Motorola Edge 30
D19: Profilo Top - Android brand 1 | E19: Samsung | F19: Samsung A53 256GB 5G EE
D20: Profilo Top - Android brand 2 | E20: Oppo | F20: Oppo Reno 10
D21: Profilo Top - Android brand 3 | E21: Honor | F21: Honor 90
D22: Profilo Top - IoS | E22: Apple | F22: iPhone 13 256GB
D23: Tablet - Android brand 1 | E23: Samsung | F23: Samsung Galaxy Tab S9 5G 256GB EE
D24: Tablet - Android brand 2 | E24: Lenovo | F24: Lenovo Tab P11 5G
D25: Tablet - IOS | E25: Apple | F25: iPad 10 gen 256GB
D26: Modem | E26: ZTE | F26: Vodafone Giga To Go
C27: Premium | D27: Profilo Premium - Android | E27: Samsung | F27: Samsung S22 Ultra 256GB
D28: Profilo Premium - IOS | E28: Apple | F28: iPhone 15 Pro 512GB
B30: NOTA: Qualora il il numero dei terminali superasse il quantitativo suggerito dalla convenzione, la cella denominata QuantitàTerminali Standard/Prioritaria si colorera' di Arancione
B31: 4) Compilare il MODULO ATT. NUOVE UTENZE _PORTABILITA', come di seguito riportato:
B32: Nel caso alcune celle obbligatorie di questa sezione non vengano compilate correttamente, l'intera colonna si colorerà di ARANCIONE e devono essere corrette prima di inviare il presente modulo. Le celle in Grigio non devono essere compilate. Le SIM del contratto dovranno essere configurate dall’Amministrazione compilando le tabelle di cui si compone il presente modulo. Ciascuna riga identificherà una SIM (Utenza), di seguito la legenda dei diversi campi: - Dati Anagrafici dell'Amministrazione: - Sede di Consegna: campo valorizzato dall'Amministrazione, rappresenta la Sede di consegna delle SIM come indicato nello sheet "Elenco Sedi" - Dati relativi alle Utenze: - Seriale SIM Vodafone: DA NON COMPILARE - campo valorizzato da Vodafone e comunicato alla singola Ammistrazione (es. 8939107000000XXXXXX) - Numero Telefono: DA NON COMPILARE - campo valorizzato da Vodafone e comunicato alla singola Amministrazione in caso di Attivazione nuova utenza, in caso di MNP il numero dovrà essere fornito dalla Amministrazione indicandolo nella Colonna J - Tipo Profili Utenza: selezionare la tipologia di utenza tra Standard, Prioritaria o Pacchetto Premium (in questo caso i pacchetti base selezionabili saranno unicamente quelli PREMIUM) - Autorizzazione Dual Dipendente: selezionare SI nel caso in cui si voglia autorizzare tale Utenza a chiedere successivamente la richiesta di attivazione Dual. - Etichetta SIM (Massimo 25 caratteri): tale informazione è OBBLIGATORIA e fondamentale per creare una correlazione tra l'utenza e la SIM che verrà spedita da Vodafone e quindi deve essere UNIVOCA per ogni SIM all'interno dello stesso ordine. Le SIM spedite nelle Sedi di consegna indicate nella colonna B riporteranno l'etichetta scelta ed inserita dal ROA nella colonna G. Questo facilitera' l'Amministazione nella corretta associazione delle sim e distribuzione delle stesse. Nel campo Etichetta SIM potrà essere inserito Nome/Cognome utente o numero matricola o ID interno Amministrazione. In caso di portabilità da altro operatore o migrazione da Vodafone il campo Etichetta SIM è fortemente consigliato inserire il numero di telefono in portabilità (colonna K) NOTA IMPORTANTE: Nel primo ODF (CONTRATTO PRINCIPALE) dovrà essere richiesta obbligatoriamente da parte del ROA una SIM TECNICA, SIM fornita da Vodafone per la gestione della Registrazione al Portale WEB. Sul numero di telefono di tale SIM verranno inviate le password per l'accesso al Portale; la SIM sarà chiusa a tutti i servizi fonia e dati (entranti ed uscenti) tranne che per gli SMS e non prevederà l'addebito della Tassa di Concessione Governativa. La prima riga dello sheet (riga 4) è utilizzata per indicare la sede di consegna della SIM TECNICA e l'etichetta della stessa (colonna G) che è precompilata con la stringa "SIM TECNICA". Da compilare unicamente la colonna B "Sede di Consegna" . Eliminare la riga per ordini successivi al primo relativo allo stesso CONTRATTO PRINCIPALE - SIM DATI Secondaria: selezionare "X" nel caso in cui il ROA voglia richiedere una SIM DATI Secondaria associata all'utenza principale. Il campo è selezionabile dopo aver scelto il pacchetto Base. In caso di incompatibilà del servizio con il pacchetto base selezionato apparirà nel menu a tendina il valore "N.A." In caso di scelta del servizio SIM DATI Secondaria (selezione "X") , in automatico verra' compilato il campo ETICHETTA SIM DATI SECONDARIA come segue: <ETICHETTA SIM>_2. Dove ETICHETTA SIM è la volorizzazione del campo ETICHETTA della SIM Primaria.
B33: -Dati per la Portabilità e Migrazione: Tali campi dovranno essere compilati SOLO in caso di portabilità da altro Operatore o migrazione da precedente contratto Vodafone Tutte le attivazioni saranno di tipo CONDIZIONATO al buon esito della portabiltità: la SIM verrà attivata il giorno della portabilità La compilazione dei campi di interesse che seguono, sono necessari sia per richieste di portabilità che di migrazione da compilare come segue. PORTABILITA' MNP DI UTENZE INTESTATE ALLA PUBBLICA AMMINISTRAZIONE - Operatore di Provenienza: selezionare dalla lista l'Operatore su cui e' attiva la SIM da portare in Vodafone su convenzione TM9 - Numero di telefono: indicare il numero di telefono oggetto di portabilità verso Vodafone su convenzione TM9 - Seriale SIM: non compilare - Codice Fiscale/Partita IVA: indicare la P.IVA della Pubblica Ammistrazione titolare dell'utenza da portare verso Vodafone come riportato nell'intestazione dell'ultima fattura fornita dall'operatore di provenienza - Nome Cognone/Ragione Sociale: indicare la Ragione Sociale della Pubblica Amministrazione titolare dell'utenza la cui P.IVA è stata riportata nella colonna M, come riportato nell'ultima fattura fornita dall'operatore di provenienza - Tipo documento: selezionare il tipo di documento di identità del rappresentante delegato della Pubblica Amministrazione con potere di firma (Punto Ordinante) - Numero documento di identità: indicare il codice del documento di identita' del rappresentante delegato della Pubblica Amministrazione con potere di firma (Punto Ordinante)
B34: PORTABILITA' MNP DI UTENZE PRIVATE (utenze intestate a privati attive con altro operatore che la PA vuole includere nel contratto TM9) - Operatore di Provenienza: selezionare dalla lista l'Operatore su cui è attiva la SIM da portare in Vodafone su convenzione TM9 - Numero di telefono: indicare il numero di telefono oggetto di portabilità verso Vodafone su convenzione TM9 - Seriale SIM: non compilare - Codice Fiscale/Partita IVA: indicare il Codice Fiscale a cui è intestata l'utenza da portare verso Vodafone in convenzione CONSIP TM9 come riportato nell'ultima fattura fornita dall'operatore di provenienza - Nome Cognome/Ragione Sociale: indicare il Nome ed il Cognome a cui è intestata l'utenza da portare verso Vodafone in convenzione CONSIP TM9 - Tipo documento: selezionare il tipo di documento di identita' del rappresentante delegato della Pubblica Amministrazione con potere di firma (Punto Ordinante) - Numero documento di identità: indicare il codice del documento di identita' del rappresentante delegato della Pubblica Amministrazione con potere di firma (Punto Ordinante)
B35: MIGRAZIONE UTENZE PRIVATE (utenze private già attive con contratto Vodafone che la Pubblica Amministrazione vuole includere nel contratto TM9) E' necessario allegare al presente modulo anche il "Modulo Proposta di Cessione /Subentro del contratto" compilato e firmato, da ricehiedere al Customer Care. - Operatore di Provenienza: VODAFONE - Numero di telefono: indicare il numero di telefono oggetto di portabilità verso Vodafone su convenzione TM9 - Seriale SIM: da indicare nel caso in cui l'operatore di Provenienza sia Vodafone e l'utenza da migrare sia intestata a privato Vodafone (es. 8939107000000123456) - Codice Fiscale/Partita IVA: indicare il Codice Fiscale a cui è intestata l'utenza da portare in convenzione CONSIP TM9 - Nome Cognone/Ragione Sociale: indicare il Nome ed il Cognome a cui è intestata l'utenza da migrare in convenzione CONSIP TM9 - Tipo documento: selezionare il tipo di documento di identità del rappresentante delegato della Pubblica Amministrazione con potere di firma (Punto Ordinante) - Numero documento di identità: indicare il codice del documento di identita' del rappresentante delegato della Pubblica Amministrazione con potere di firma (Punto Ordinante)
B36: MIGRAZIONE UTENZE INTESTATE ALLA PUBBLICA AMMINISTRAZIONE (migrazione verso TM9 di un contratto esistente Vodafone Business PA) - Operatore di Provenienza: VODAFONE - Numero di telefono: indicare il numero di telefono oggetto di portabilità verso Vodafone su convenzione TM9 - Seriale SIM: non compilare - Codice Fiscale/Partita IVA: indicare la P.IVA della Pubblica Amministrazione titolare dell'utenza da migrare in convenzione CONSIP TM9 - Nome Cognone/Ragione Sociale: indicare la Ragione Sociale della Pubblica Amministrazione la cui P.IVA è stata riportata nella colonna L - Tipo documento: selezionare il tipo di documento di identità del rappresentante delegato della Pubblica Amministrazione con potere di firma (Punto Ordinante) - Numero documento di identità: indicare il codice del documento di identita' del rappresentante delegato della Pubblica Amministrazione con potere di firma (Punto Ordinante)
B37: - Dati Offerta Mobile: Nel caso alcune celle obbligatorie di questa sezione non vengano compilate correttamente, le celle si coloreranno di ARANCIONE - Pacchetto Base: selezionare il piano tariffario per il traffico (Voce+SMS+Dati) nazionale Ogni SIM di potra' condividere il traffico SMS, MMS , Voce Itz (Condiviso Voce) o DATI (Condiviso Dati) con tutte le SIM che avranno il medesimo pacchetto base.
C38: Pacchetto Base | E38: Traffico (Voce+SMS+Dati) Caratteristiche del piano tariffario
C39: TM9 Abbonamento P5 - Condiviso Dati | E39: Min Nazionali Illimitati + 20 min vs Fissa e Mobile Internazionali + 300 SMS + 10 MMS + 5GB condivisi con le SIM con lo stesso pacchetto base
C40: TM9 Abbonamento P30 - Condiviso Dati | E40: Min Nazionali Illimitati + 20 min vs Fissa e Mobile Internazionali + 300 SMS + 10 MMS + 30GB condivisi con le SIM con lo stesso pacchetto base
C41: TM9 Abbonamento P100 - Condiviso Dati | E41: Min Nazionali Illimitati + 20 min vs Fissa e Mobile Internazionali + 300 SMS + 10 MMS + 100GB condivisi con le SIM con lo stesso pacchetto base
C42: TM9 Ricaricabile P5 - Condiviso Dati | E42: Min Nazionali Illimitati + 20 min vs Fissa e Mobile Internazionali + 300 SMS + 10 MMS + 5GB condivisi con le SIM con lo stesso pacchetto base
C43: TM9 Ricaricabile P30 - Condiviso Dati | E43: Min Nazionali Illimitati + 20 min vs Fissa e Mobile Internazionali + 300 SMS + 10 MMS + 30GB condivisi con le SIM con lo stesso pacchetto base
...

Sheet Riepilogo Utenze - Offerta
B2: Riepilogo Utenze
C5: VOCE a CATALOGO - DATI CONDIVISI | E5: Quantità | G5: TERMINALI | H5: Quantità | K5: Attivazioni Totali | L5: =COUNTA('Att. Nuove Utenze_Portabilita'!Q4:Q3050)-COUNTIF('Att. Nuove Utenze_Portabilita'!Q4:Q3050,"SIM TECNICA") -> 0 | N5: Scorta SIM | O5: =ROUNDUP(0.05*L5,0) -> 0
C6: Utenze in Abbonamento | D6: TM9 Abbonamento P5 - Condiviso Dati | E6: =COUNTIF('Att. Nuove Utenze_Portabilita'!B:W,D6) -> 0 | G6: Profilo Base - Android | H6: =SUM(Terminali!L6:L8) -> 0
C7: Utenze in Abbonamento | D7: TM9 Abbonamento P30 - Condiviso Dati | E7: =COUNTIF('Att. Nuove Utenze_Portabilita'!B:W,D7) -> 0 | G7: Profilo Intermedio - Android | H7: =SUM(Terminali!L9:L11) -> 0 | J7: di cui | K7: Portabilità MNP da altro operatore | L7: =COUNTA('Att. Nuove Utenze_Portabilita'!J4:J3050)-COUNTIF('Att. Nuove Utenze_Portabilita'!J4:J3050,"VODAFONE") -> 0 | N7: Utenze Premium | O7: =E24+E30 -> 0
C8: Utenze in Abbonamento | D8: TM9 Abbonamento P100 - Condiviso Dati | E8: =COUNTIF('Att. Nuove Utenze_Portabilita'!B:W,D8) -> 0 | G8: Profilo Top - Android | H8: =SUM(Terminali!L12:L14) -> 0
C9: Utenze in Ricaricabile | D9: TM9 Ricaricabile P5 - Condiviso Dati | E9: =COUNTIF('Att. Nuove Utenze_Portabilita'!B:W,D9) -> 0 | G9: Profilo Top -IoS | H9: =Terminali!L15 -> 0
C10: Utenze in Ricaricabile | D10: TM9 Ricaricabile P30 - Condiviso Dati | E10: =COUNTIF('Att. Nuove Utenze_Portabilita'!B:W,D10) -> 0 | G10: Profilo Premium - Android | H10: =Terminali!L20 -> 0 | J10: di cui | K10: Migrazione da contratto Vodafone esistente | L10: =COUNTIF('Att. Nuove Utenze_Portabilita'!J6:J3050,"VODAFONE") -> 0 | N10: Profilo Standard | O10: =COUNTIF('Att. Nuove Utenze_Portabilita'!E4:E3050, ELENCO!B3) -> 0
C11: Utenze in Ricaricabile | D11: TM9 Ricaricabile P100 - Condiviso Dati | E11: =COUNTIF('Att. Nuove Utenze_Portabilita'!B:W,D11) -> 0 | G11: Profilo Premium - IOS | H11: =Terminali!L21 -> 0
C12: Utenze in Abbonamento | D12: TM9 Abbonamento Dati D5 - Condiviso Dati | E12: =COUNTIF('Att. Nuove Utenze_Portabilita'!B:W,D12) -> 0 | G12: Tablet - Android | H12: =SUM(Terminali!L16:L17) -> 0
C13: Utenze in Abbonamento | D13: TM9 Abbonamento Dati D30 - Condiviso Dati | E13: =COUNTIF('Att. Nuove Utenze_Portabilita'!B:W,D13) -> 0 | G13: Tablet - IOS | H13: =Terminali!L18 -> 0 | J13: di cui | K13: Nuove Attivazioni | L13: =L5-L7-L10 -> 0
C14: Utenze in Abbonamento | D14: TM9 Abbonamento Dati D100 - Condiviso Dati | E14: =COUNTIF('Att. Nuove Utenze_Portabilita'!B:W,D14) -> 0 | G14: Modem | H14: =Terminali!L19 -> 0
C15: Utenze in Ricaricabile | D15: TM9 Ricaricabile Dati D5 - Condiviso Dati | E15: =COUNTIF('Att. Nuove Utenze_Portabilita'!B:W,D15) -> 0
C16: Utenze in Ricaricabile | D16: TM9 Ricaricabile Dati D30 - Condiviso Dati | E16: =COUNTIF('Att. Nuove Utenze_Portabilita'!B:W,D16) -> 0 | K16: Profilo Priortiario | L16: =COUNTIF('Att. Nuove Utenze_Portabilita'!E4:E3050, ELENCO!B4) -> 0
C17: Utenze in Ricaricabile | D17: TM9 Ricaricabile Dati D100 - Condiviso Dati | E17: =COUNTIF('Att. Nuove Utenze_Portabilita'!B:W,D17) -> 0
C18: VOCE a CATALOGO - SMS, MMS, Minuti ITZ CONDIVISI | E18: Quantità
C19: Utenze in Abbonamento | D19: TM9 Abbonamento P0 - Condiviso Voce | E19: =COUNTIF('Att. Nuove Utenze_Portabilita'!B:W,D19) -> 0 | K19: Sicurezza Centralizzata | L19: =COUNTIF('Att. Nuove Utenze_Portabilita'!V4:V3050,ELENCO!M3) -> 0
C20: Utenze in Abbonamento | D20: TM9 Abbonamento P5 - Condiviso Voce | E20: =COUNTIF('Att. Nuove Utenze_Portabilita'!B:W,D20) -> 0
C21: Utenze in Abbonamento | D21: TM9 Abbonamento P30 - Condiviso Voce | E21: =COUNTIF('Att. Nuove Utenze_Portabilita'!B:W,D21) -> 0
C22: Utenze in Abbonamento | D22: TM9 Abbonamento P100 - Condiviso Voce | E22: =COUNTIF('Att. Nuove Utenze_Portabilita'!B:W,D22) -> 0 | K22: Autorizzazione Dual | L22: =COUNTIF('Att. Nuove Utenze_Portabilita'!F4:F3050,ELENCO!M3) -> 0
C23: Utenze in Abbonamento | D23: TM9 Abbonamento Illimitato - Condiviso Voce | E23: =COUNTIF('Att. Nuove Utenze_Portabilita'!B:W,D23) -> 0
C24: Utenze in Abbonamento | D24: TM9 Abbonamento Premium - Condiviso Voce | E24: =COUNTIF('Att. Nuove Utenze_Portabilita'!B:W,D24) -> 0
C25: Utenze in Ricaricabile | D25: TM9 Ricaricabile P0 - Condiviso Voce | E25: =COUNTIF('Att. Nuove Utenze_Portabilita'!B:W,D25) -> 0 | K25: Terminali Totali | L25: =SUM(H6:H14) -> 0
C26: Utenze in Ricaricabile | D26: TM9 Ricaricabile P5 - Condiviso Voce | E26: =COUNTIF('Att. Nuove Utenze_Portabilita'!B:W,D26) -> 0
C27: Utenze in Ricaricabile | D27: TM9 Ricaricabile P30 - Condiviso Voce | E27: =COUNTIF('Att. Nuove Utenze_Portabilita'!B:W,D27) -> 0
C28: Utenze in Ricaricabile | D28: TM9 Ricaricabile P100 - Condiviso Voce | E28: =COUNTIF('Att. Nuove Utenze_Portabilita'!B:W,D28) -> 0 | G28: Eventuali altri servizi acquistati non relativi alle Utenze SIM richiedono la compilazione degli specifici Moduli (SMS Massivi, Fleet Management, Potenziamento Copertura, EMM, Accesso LAN, Servizi di Sviluppo e Integrazione)
C29: Utenze in Ricaricabile | D29: TM9 Ricaricabile Illimitato - Condiviso Voce | E29: =COUNTIF('Att. Nuove Utenze_Portabilita'!B:W,D29) -> 0
C30: Utenze in Ricaricabile | D30: TM9 Ricaricabile Premium - Condiviso Voce | E30: =COUNTIF('Att. Nuove Utenze_Portabilita'!B:W,D30) -> 0
C31: VOCE a CATALOGO - SMS, MMS, Minuti ITZ + DATI CONDIVISI | E31: Quantità
C32: Utenze in Abbonamento | D32: TM9 Abbonamento P5 - Condiviso Voce+Dati | E32: =COUNTIF('Att. Nuove Utenze_Portabilita'!B:W,D32) -> 0
C33: Utenze in Abbonamento | D33: TM9 Abbonamento P30 - Condiviso Voce+Dati | E33: =COUNTIF('Att. Nuove Utenze_Portabilita'!B:W,D33) -> 0
C34: Utenze in Abbonamento | D34: TM9 Abbonamento P100 - Condiviso Voce+Dati | E34: =COUNTIF('Att. Nuove Utenze_Portabilita'!B:W,D34) -> 0
C35: Utenze in Ricaricabile | D35: TM9 Ricaricabile P5 - Condiviso Voce+Dati | E35: =COUNTIF('Att. Nuove Utenze_Portabilita'!B:W,D35) -> 0
C36: Utenze in Ricaricabile | D36: TM9 Ricaricabile P30 - Condiviso Voce+Dati | E36: =COUNTIF('Att. Nuove Utenze_Portabilita'!B:W,D36) -> 0
C37: Utenze in Ricaricabile | D37: TM9 Ricaricabile P100 - Condiviso Voce+Dati | E37: =COUNTIF('Att. Nuove Utenze_Portabilita'!B:W,D37) -> 0

Sheet Dati generali
B1: Per i campi con * si richiede valorizzazione obbligatoria da parte dell'Amministrazione
B2: Modulo Dati Generali
C4: ORDINE CHE RICHIEDE NUOVO CODICE CLIENTE (codice Vodafone della PA univoco per ogni anagrafica di fatturazione) Selezionare SI se si tratta del primo ordine TM9 oppure di ordini successivi ma per i quali è richiesta la creazione di un nuovo CODICE CLIENTE, per generare una fatturazione separata dagli altri CODICI CLIENTE TM9 della PA esistenti Selezione NO per ordini relativi a CODICI CLIENTE TM9 esistenti (in questo caso è obbligatorio compilare il CODICE CLIENTE) | E4: SI
C6: Nr. Identificativo Ordine * Ordine diretto di acquisto al quale si riferisce il presente allegato
C8: RAGIONE SOCIALE * Ragione Sociale dell'Ammnistrazione
C10: CODICE CLIENTE Codice Vodafone della PA univoco per ogni anagrafica di fatturazione (esempio 7.1234567.20). OBBLIGATORIO in caso di Ordini relativi a CODICE CLIENTE TM9 esistenti
C12: Esenzione Tassa di concessione Governativa * | E12: NO
C13: non c’è alcun addebito della tassa; si ricorda che – ai sensi della risoluzione dell’Agenzia delle Entrate n. 55/E del 3 maggio 2005 – risultano soggette alla tassa sopraindicata “tutte le amministrazioni pubbliche diverse da quelle statali, vale a dire quelle non riconducibili allo Stato titolare di ogni diritto e facoltà”. Ai fini della non applicazione della Tassa di Concessione Governativa, l’Amministrazione deve fornire la documentazione atta a comprovare la non applicabilità della medesima.
C15: Ritenuta 0.5% * | E15: NO
C17: Split Payment * | E17: NO
C19: Regime IVA * | E19: 0.22
C21: Da attivare alla consegna * Come previsto in “Guida alla Convenzione” le SIM con MNP saranno attivate a seguito di una specifica richiesta di attivazione del ROA verso il Contact Center o da portale WEB. Indicare la preferenza per le SIM senza MNP: •Selezionare SI per attivazione alla consegna: le SIM senza MNP saranno attivate nel momento in cui verrà confermata la consegna presso la sede richiesta. •Selezionare NO per attivazione su richiesta: le SIM senza MNP saranno attivate a seguito della richiesta di attivazione del ROA al Contact Center o da portale WEB. In caso di un numero consistente di SIM con MNP (esempio >100), Vodafone si riserva di adottare il flusso di MNP "progetto ad hoc", salvo diversi accordi con l'Amministrazione. | E21: SI
C25: RESPONSABILE OPERATIVO AMMINISTRAZIONE *:
C26: Nome *
C28: Cognome *
C30: Indirzzo e-mail *
C32: Numero di Telefono *
C35: REFERENTE TECNICO per Sicurezza Centralizzata (Campo obbligario in caso di richiesta servizio Sicurezza Centralizzata)
C36: Nome *
C38: Cognome *
C40: Indirzzo e-mail *
C42: Numero di Telefono *
C46: IL Responsabile Opertativo dell'amministrazione (ROA) è il responsabile di tutte le attività di interfaccia operativa tra Amminitrazione e Fornitore previste nel capitolato della convenzione CONSIP TM9. A tal fine l’Amministrazione manifesta a Vodafone la volonta’ di poter richiedere, tramite la persona indicata come ROA (Responsabile Operativo Amministrazione), la variazione dei servizi e opzioni tariffarie nei limiti ed alle condizioni previste dalla Convenzione cd. TM9, mediante: 1) la sottoscrizione da parte della medesima persona (ROA) della modulistica di volta in volta sottoposta da Vodafone; 2) messaggi di posta elettronica provenienti dagll’indirizzo appartenente alla medesima persona all`indirizzo comunicato da Vodafone; 3) l`accesso da parte della stessa al Sito Web www.vodafone.it, tramite login e password. Tutto ciò premesso: • L’Amministrazione potrà effettuare tutte le attività di cui sopra, mediante la sottoscrizione dei moduli necessari, l`invio di messaggi di posta elettronica e l`accesso al sito web da parte del ROA • L’Amministrazione riconosce sin d`ora come propria, pienamente valida ed efficace ogni e qualsivoglia richiesta indirizzata a Vodafone e proveniente dalla persona indicata come ROA, fino a, e fatta salva la comunicazione per iscritto della revoca della delega conferita; • L’Amministrazione si impegna sin d’ora a tenere Vodafone indenne e manlevata da qualsiasi contestazione, domanda e qualsivoglia richiesta di risarcimento dei danni conseguente alle variazioni e attivazioni effettuate dalla persona indicata come ROA
C48: Il rappresentante delegato della Pubblica Amministrazione con potere di firma (Punto Ordinante) , avendo acquisito l’autorizzazione del titolare delle sim a gestire le richieste di portabilità sulla Rete Mobile di Vodafone, in conformità a quanto previsto dalla Delibera 147/11/CIR come modificata dalla Delibera n. 86/21/CIR in materia di portabilità, delega Vodafone Italia S.p.A. a richiedere all'operatore di provenienza la disattivazione delle SIM indicate a condizione che la richiesta di portabilità del numero verso Vodafone Italia S.p.A. vada a buon fine. In caso di abbonamento ciò implica formale recesso dal rapporto contrattuale attualmente in essere con l’Operatore di Provenienza, fatti salvi gli obblighi dell'azienda derivanti dallo stesso contratto. In caso di richiesta di Portabilità relativa ad utenze, prepagate l’eventuale traffico prepagato residuo fornito dall'Operatore di Provenienza non potrà essere trasferito sulle nuove SIM Vodafone Ricaricabili o Abbonamento.
... C51: Vodafone eroga il servizio Sicurezza Centralizzata in qualità di Responsabile del trattamento dati avvalendosi di società subresponsabili. Per la nomina Vodafone al trattamento dei dati è necessario utilizzare l'apposito format disponibile sul portale Acquisti in Rete da allegare a questo ordine.

Sheet Elenco Sedi
B3: Elenco sedi di spedizione/consegna SIM e Terminali
C6: NUMERO SEDE di CONSEGNA | D6: DENOMINAZIONE | E6: INDIRIZZO | F6: CAP | G6: COMUNE | H6: PROVINCIA | I6: REFERENTE SEDE (Nome e Cognome) | J6: TELEFONO | K6: E-MAIL
C7: 1
C8: 2
C9: 3
C10: 4
C11: 5
C12: 6
C13: 7
C14: 8
C15: 9
C16: 10
C17: 11
C18: 12
... C106: 100

Sheet Terminali
C3: COMPILARE (Tabella sottostante - Tipologia) | G3: Non CompilareTabella sottostante
C5: TIPOLOGIA TERMINALE | D5: QUANTITA' | E5: NUMERO SEDE DI CONSEGNA | G5: Tipologia Utenza | H5: Tipologia Terminale | I5: Marca Terminale | J5: Modello Terminale | K5: Codice identificativo Terminale | L5: Riepilogo Quantita' | O5: QuantitàTerminali Standard/Prioritaria | Q5: Quantità Utenze Standard/Prioritaria
G6: Standard/Prioritaria | H6: Profilo Base - Android brand 1 | I6: Samsung | J6: Samsung A33 5G EE | K6: 13024390 | L6: =SUMIF(($C$6:$C$1697),H6,($D$6:$D$1697)) -> 0 | O6: =SUM(L6:L19) -> 0 | Q6: ='Riepilogo Utenze - Offerta'!L5-'Riepilogo Utenze - Offerta'!E11-'Riepilogo Utenze - Offerta'!E24 -> 0
H7: Profilo Base - Android brand 2 | I7: Honor | J7: Honor Magic 5 Lite 5G | K7: 13024397 | L7: =SUMIF(($C$6:$C$1697),H7,($D$6:$D$1697)) -> 0
H8: Profilo Base - Android brand 3 | I8: Motorola | J8: Motorola G62 5G | K8: 13024401 | L8: =SUMIF(($C$6:$C$1697),H8,($D$6:$D$1697)) -> 0
H9: Profilo Intermedio - Android brand 1 | I9: Samsung | J9: Samsung A34 5G 8-256GB EE | K9: 13024384 | L9: =SUMIF(($C$6:$C$1697),H9,($D$6:$D$1697)) -> 0
H10: Profilo Intermedio - Android brand 2 | I10: Honor | J10: Honor 90 Lite | K10: 13024398 | L10: =SUMIF(($C$6:$C$1697),H10,($D$6:$D$1697)) -> 0 | O10: Quantità Terminali Premium | Q10: Quantità Utenze Premium
H11: Profilo Intermedio - Android brand 3 | I11: Motorola | J11: Motorola Edge 30 | K11: 13024402 | L11: =SUMIF(($C$6:$C$1697),H11,($D$6:$D$1697)) -> 0
H12: Profilo Top - Android brand 1 | I12: Samsung | J12: Samsung A53 256GB 5G EE | K12: 13024385 | L12: =SUMIF(($C$6:$C$1697),H12,($D$6:$D$1697)) -> 0 | O12: =SUM(L20:L21) -> 0 | Q12: ='Riepilogo Utenze - Offerta'!E11+'Riepilogo Utenze - Offerta'!E24 -> 0
H13: Profilo Top - Android brand 2 | I13: Oppo | J13: Oppo Reno 10 | K13: 13024400 | L13: =SUMIF(($C$6:$C$1697),H13,($D$6:$D$1697)) -> 0
H14: Profilo Top - Android brand 3 | I14: Honor | J14: Honor 90 | K14: 13024399 | L14: =SUMIF(($C$6:$C$1697),H14,($D$6:$D$1697)) -> 0
H15: Profilo Top - IoS | I15: Apple | J15: iPhone 13 256GB | K15: 13024391 | L15: =SUMIF(($C$6:$C$1697),H15,($D$6:$D$1697)) -> 0
H16: Tablet - Android brand 1 | I16: Samsung | J16: Samsung Galaxy Tab S9 5G 256GB EE | K16: 13024388 | L16: =SUMIF(($C$6:$C$1697),H16,($D$6:$D$1697)) -> 0
H17: Tablet - Android brand 2 | I17: Lenovo | J17: Lenovo Tab P11 5G | K17: 13024387 | L17: =SUMIF(($C$6:$C$1697),H17,($D$6:$D$1697)) -> 0
H18: Tablet - IOS | I18: Apple | J18: iPad 10 gen 256GB | K18: 13024395 | L18: =SUMIF(($C$6:$C$1697),H18,($D$6:$D$1697)) -> 0
H19: Modem | I19: ZTE | J19: Vodafone Giga To Go | K19: 13023672 | L19: =SUMIF(($C$6:$C$1697),H19,($D$6:$D$1697)) -> 0
G20: Premium | H20: Profilo Premium - Android | I20: Samsung | J20: Samsung S22 Ultra 256GB EE | K20: 13024389 | L20: =SUMIF(($C$6:$C$1697),H20,($D$6:$D$1697)) -> 0
H21: Profilo Premium - IOS | I21: Apple | J21: iPhone 15 Pro 512GB | K21: 13024393 | L21: =SUMIF(($C$6:$C$1697),H21,($D$6:$D$1697)) -> 0

Sheet Att. Nuove Utenze_Portabilita
B2: DATI ANAGRAFICI | C2: UTENZE | H2: UTENZA DATI Secondaria | J2: Dati per la Portabilità e Migrazione | Q2: Dati Offerta Mobile | V2: Sicurezza | W2: Ricarica Automatica | X2: Ricariche Automatiche Opzionali
B3: Numero Sede di Consegna | C3: Seriale SIM Vodafone (fornito da Vodafone - da non compilare) | D3: Numero di telefono (fornito da Vodafone - da non compilare) | E3: Tipo Profilo Utenza (Standard, Prioritaria) | F3: Richiesta autorizzazione Dual Dipendente | G3: Etichetta SIM (compilare con numero di telefono in caso di portabilita' o migrazione da precedente contratto Vodafone) | H3: SIM DATI Secondaria | I3: Etichetta SIM DATI Secondaria (campo compilato in automatico) | J3: Operatore di Provenienza | K3: Numero di Telefono da importare o migrare | L3: Seriale SIM attuale (da compilare solo in caso di migrazione da utenze private Vodafone) | M3: Codice Fiscale/P.IVA | N3: Nome Cognome/ Rag. Sociale | O3: Tipo documento di identità | P3: Numero documento di identità | Q3: Pacchetto Base | R3: Traffico oltre soglia MINUTI ITZ e SMS - a consumo | S3: Traffico Roaming ed Internazionale | T3: Traffico Roaming EXTRA SEE (gettoni di traffico SmartPassport) | U3: Traffico oltre soglia DATI - Pacchetti aggiuntivi su SIM (non disponibile per i Pacchetti Base Condivisi) | V3: Sicurezza Centralizzata | W3: Modalità di Ricarica per SIM RICARICABILE (Tacito Assenso, Esplicito Assenso) | X3: Ricarica a frequenza Frequenza di ricarica (gg) | Y3: Ricarica a frequenza Taglio di ricarica (€) | Z3: Ricarica a Tempo Frequenza di ricarica (gg) | AA3: Ricarica a Tempo Taglio ricarica (€) | AB3: Ricarica sotto soglia parametrica Valore soglia (€) | AC3: Ricarica sotto soglia parametrica Taglio ricarica (€) | AD3: Ricarica sotto soglia parametrica Ricariche nel mese | AE3: Ricarica di Emergenza Taglio ricarica (€) | AF3: Ricarica "Una Tantum"
E4: "" | G4: SIM TECNICA | Q4: SIM TECNICA | R4: "SIM TECNICA | S4: "SIM TECNICA | T4: "SIM TECNICA | U4: "SIM TECNICA
I5: =IF(H5="X",TEXT(G5,0)&ELENCO!$A$4," ") | W5: =IF(AND(NOT(ISERROR(SEARCH("Ricaricabile",Q5,1)))),"Tacito Assenso","") | AE5: =IF(AND(NOT(ISERROR(SEARCH("Ricaricabile",Q5,1))),R5="Abilitato"),IF(SUM(AB5:AD5)=0,4.1,""),"")
I6: =IF(H6="X",TEXT(G6,0)&ELENCO!$A$4," ") | W6: =IF(AND(NOT(ISERROR(SEARCH("Ricaricabile",Q6,1)))),"Tacito Assenso","") | AE6: =IF(AND(NOT(ISERROR(SEARCH("Ricaricabile",Q6,1))),R6="Abilitato"),IF(SUM(AB6:AD6)=0,4.1,""),"")
I7: =IF(H7="X",TEXT(G7,0)&ELENCO!$A$4," ") | W7: =IF(AND(NOT(ISERROR(SEARCH("Ricaricabile",Q7,1)))),"Tacito Assenso","") | AE7: =IF(AND(NOT(ISERROR(SEARCH("Ricaricabile",Q7,1))),R7="Abilitato"),IF(SUM(AB7:AD7)=0,4.1,""),"")
I8: =IF(H8="X",TEXT(G8,0)&ELENCO!$A$4," ") | W8: =IF(AND(NOT(ISERROR(SEARCH("Ricaricabile",Q8,1)))),"Tacito Assenso","") | AE8: =IF(AND(NOT(ISERROR(SEARCH("Ricaricabile",Q8,1))),R8="Abilitato"),IF(SUM(AB8:AD8)=0,4.1,""),"")
I9: =IF(H9="X",TEXT(G9,0)&ELENCO!$A$4," ") | W9: =IF(AND(NOT(ISERROR(SEARCH("Ricaricabile",Q9,1)))),"Tacito Assenso","") | AE9: =IF(AND(NOT(ISERROR(SEARCH("Ricaricabile",Q9,1))),R9="Abilitato"),IF(SUM(AB9:AD9)=0,4.1,""),"")
I10: =IF(H10="X",TEXT(G10,0)&ELENCO!$A$4," ") | W10: =IF(AND(NOT(ISERROR(SEARCH("Ricaricabile",Q10,1)))),"Tacito Assenso","") | AE10: =IF(AND(NOT(ISERROR(SEARCH("Ricaricabile",Q10,1))),R10="Abilitato"),IF(SUM(AB10:AD10)=0,4.1,""),"")
I11: =IF(H11="X",TEXT(G11,0)&ELENCO!$A$4," ") | W11: =IF(AND(NOT(ISERROR(SEARCH("Ricaricabile",Q11,1)))),"Tacito Assenso","") | AE11: =IF(AND(NOT(ISERROR(SEARCH("Ricaricabile",Q11,1))),R11="Abilitato"),IF(SUM(AB11:AD11)=0,4.1,""),"")
I12: =IF(H12="X",TEXT(G12,0)&ELENCO!$A$4," ") | W12: =IF(AND(NOT(ISERROR(SEARCH("Ricaricabile",Q12,1)))),"Tacito Assenso","") | AE12: =IF(AND(NOT(ISERROR(SEARCH("Ricaricabile",Q12,1))),R12="Abilitato"),IF(SUM(AB12:AD12)=0,4.1,""),"")
I13: =IF(H13="X",TEXT(G13,0)&ELENCO!$A$4," ") | W13: =IF(AND(NOT(ISERROR(SEARCH("Ricaricabile",Q13,1)))),"Tacito Assenso","") | AE13: =IF(AND(NOT(ISERROR(SEARCH("Ricaricabile",Q13,1))),R13="Abilitato"),IF(SUM(AB13:AD13)=0,4.1,""),"")
I14: =IF(H14="X",TEXT(G14,0)&ELENCO!$A$4," ") | W14: =IF(AND(NOT(ISERROR(SEARCH("Ricaricabile",Q14,1)))),"Tacito Assenso","") | AE14: =IF(AND(NOT(ISERROR(SEARCH("Ricaricabile",Q14,1))),R14="Abilitato"),IF(SUM(AB14:AD14)=0,4.1,""),"")
I15: =IF(H15="X",TEXT(G15,0)&ELENCO!$A$4," ") | W15: =IF(AND(NOT(ISERROR(SEARCH("Ricaricabile",Q15,1)))),"Tacito Assenso","") | AE15: =IF(AND(NOT(ISERROR(SEARCH("Ricaricabile",Q15,1))),R15="Abilitato"),IF(SUM(AB15:AD15)=0,4.1,""),"")
I16: =IF(H16="X",TEXT(G16,0)&ELENCO!$A$4," ") | W16: =IF(AND(NOT(ISERROR(SEARCH("Ricaricabile",Q16,1)))),"Tacito Assenso","") | AE16: =IF(AND(NOT(ISERROR(SEARCH("Ricaricabile",Q16,1))),R16="Abilitato"),IF(SUM(AB16:AD16)=0,4.1,""),"")
... I3051: =IF(H3051="X",TEXT(G3051,0)&ELENCO!$A$4," ") | W3051: =IF(AND(NOT(ISERROR(SEARCH("Ricaricabile",Q3051,1)))),"Tacito Assenso","") | AE3051: =IF(AND(NOT(ISERROR(SEARCH("Ricaricabile",Q3051,1))),R3051="Abilitato"),IF(SUM(AB3051:AD3051)=0,4.1,""),"")

Sheet Scorta SIM
C2: Compilare il numero di SIM di scorta da spedire su ogni sede. Le SIM di scorta devono essere il 5% del totale delle SIM ordinate e la cella H3 indica il numero di SIM di scorta totali da spedire.
C3: SCORTA SIM su base SEDE | E3: Totale scorta SIM richieste sulle diverse sedi | G3: Scorta SIM da spedire (5% delle SIM ordinate) | H3: ='Riepilogo Utenze - Offerta'!O5 -> 0
C4: Numero Sede di Consegna | D4: Quantita' | E4: =SUM($D$5:$D$99) -> 0

Sheet FATTURA
A1: IN CASO DI MNP INCOLLARE QUI L'INTESTAZIONE DELL'ULTIMA FATTURA FORNITA DA OPERATORE DONATING

Sheet ELENCO
BS1: Sigla
B2: Tipo Utenza | C2: Autorizzazione Dual | D2: Pacchetto Base | E2: SIM DATI SEC | F2: Traffico oltre soglia internazionale (Minuti Internazionali ed SMS) | G2: Traffico Roaming e Internazionale | H2: Traffico Roaming EXTRA SEE | I2: Traffico oltre soglia dati | J2: Tipo documento identita' | K2: Terminali Premium | L2: Terminali Standard/Prioritaria | M2: Sicurezza Centralizzata | N2: SIM DATI SECONDARIA | O2: Modalita' di Ricarica | P2: Ricarica a frequenza Frequenza di ricarica (gg) | Q2: Ricarica a frequenza (€) Taglio di ricarica (gg) | R2: Ricarica a Tempo Frequenza di ricarica (gg) | S2: Ricarica a Tempo Taglio di ricarica (€) | T2: Ricarica sotto soglia parametrica Valore soglia (€) | U2: Ricarica sotto soglia parametrica Taglio ricarica (€) | V2: Ricarica sotto soglia parametrica Ricariche nel mese | W2: Ricarica d'emergenza Taglio ricarica (€) | X2: OPERATORE | Z2: Esenzione Tassa Gv. | AA2: Ritenuta 0.5% | AB2: Split Payment | AC2: Regime IVA | AD2: Da attivare alla consegna | AF2: Tipo documento di identita' | AH2: Pacchetti Utenze Standard o Prioritaria Voce/Dati | AI2: Pacchetti Utenze Premium Voce/Dati | AJ2: Traffico Roaming EXTRA SEE (VOCE) | AK2: Traffico Roaming EXTRA SEE (DATI) | AN2: VOCE - Traffico Roaming EXTRA SEE (gettoni di traffico SmartPassport) | AO2: TIPOLOGIA | AS2: DATI - Traffico Roaming EXTRA SEE (gettoni di traffico SmartPassport) | AT2: TIPOLOGIA | AX2: DATI - Traffico Roaming EXTRA SEE (gettoni di traffico SmartPassport) | BB2: Traffico oltre soglia dati Ricaricabile/Abbonamento | BC2: TIPOLOGIA | BF2: Traffico oltre soglia dati ricaricabile abbonamento | BH2: Pacchetti Utenze Prioritarie Voce/Dati | BS2: AG
A3: SIM TECNICA | B3: Standard | C3: X | D3: TM9 Abbonamento P0 | E3: TM9 - ABB - P0 | F3: Abilitato | G3: Abilitato al Roaming e chiamate Internazionali | H3: disabilitato | I3: Disabilitato | J3: Carta Identita | K3: Profilo Premium - Android | L3: Profilo Base - Android brand 1 | M3: X | N3: X | O3: Tacito Assenso | P3: 5 | Q3: 2.46 | R3: 1 | S3: 2.46 | T3: 0 | U3: 2.46 | V3: 1 | W3: 4.1 | X3: VODAFONE | Z3: NO | AA3: NO | AB3: NO | AC3: esente IVA | AD3: NO | AE3: SI | AF3: Carta d'identità | AH3: TM9 Abbonamento Illimitato - Condiviso Voce | AI3: TM9 Abbonamento Premium - Condiviso Voce | AJ3: Disabilitato | AK3: Disabilitato | AM3: TM9 Abbonamento P5 - Condiviso Dati | AN3: Disabilitato | AO3: VA | AR3: TM9 Abbonamento Dati D5 | AS3: Disabilitato | AT3: DA | AX3: TM9 RD100 Smart Passport Dati Extra Europa 1 Rinnovo Abbonamento | AY3: Piani DATI | AZ3: ABB | BB3: Disabiliatato | BC3: KO_D30_D10_ABB_RIC | BF3: disabilitato | BH3: TM9 Abbonamento P0 | BI3: disabilitato | BO3: TM9 Abbonamento P5 - Condiviso Dati | BS3: AL
A4: _2 | B4: Prioritaria | C4: N.A. | D4: TM9 Abbonamento P5 | E4: TM9 - ABB - PP | F4: Disabilitato | G4: Disabilitato Roaming e abilitato a chiamate Internazionali | H4: TM9 P5 Pacchetto_giornaliero_R100 Smart Passport Extra Europa 1 Rinnovo Abbonamento | I4: TM9 - D30 - 1rinnovo Extra Abbonamento | J4: Passaporto | K4: Profilo Premium - IOS | L4: Profilo Base - Android brand 2 | N4: N.A. | O4: Esplicito Assenso | P4: 10 | Q4: 3.28 | R4: 2 | S4: 3.28 | T4: 0.82 | U4: 3.28 | V4: 2 | W4: =IF(Ricarica_di_Emergenza_Taglio_ricarica=4.1,"",33) | X4: TIM | Y4: TIM | Z4: SI | AA4: SI | AB4: SI | AC4: 0.22 | AD4: SI | AE4: NO | AF4: Passaporto | AH4: TM9 Abbonamento P100 - Condiviso Voce | AI4: TM9 Ricaricabile Premium - Condiviso Voce | AJ4: TM9 P0 Pacchetto_giornaliero_R100 Smart Passport Extra Europa 1 Rinnovo Abbonamento | AK4: TM9 D0 Pacchetto_giornaliero_RD100 Smart Passport Extra Europa 1 Rinnovo Ricaricabile | AN4: TM9 R100 Smart Passport Extra Europa 1 Rinnovo Abbonamento | AO4: VA | AS4: TM9 RD100 Smart Passport Dati Extra Europa 1 Rinnovo Abbonamento | AT4: DA | AX4: TM9 RD100 Smart Passport Dati Extra Europa 2 Rinnovi Abbonamento | AY4: Piani DATI | AZ4: ABB | BF4: TM9 - D30 - 1rinnovo Extra Abbonamento | BH4: TM9 Abbonamento P5 | BO4: TM9 Abbonamento P30 - Condiviso Dati | BS4: AN
B5: Pacchetto Premium | D5: TM9 Abbonamento P30 | E5: TM9 - RIC - P0 | F5: N.A. | G5: Disabilitato Roaming e chiamate Internazionali | H5: TM9 P5 Pacchetto_giornaliero_R100 Smart Passport Extra Europa 2 Rinnovi Abbonamento | I5: TM9 - D30 - 2rinnovi Extra Abbonamento | J5: Patente | L5: Profilo Base - Android brand 3 | P5: 15 | Q5: 4.1 | R5: 3 | S5: 4.1 | T5: 1.64 | U5: 4.1 | V5: 3 | X5: 1 MOBILE | AF5: Patente | AH5: TM9 Abbonamento P30 - Condiviso Voce | AJ5: TM9 P0 Pacchetto_giornaliero_R100 Smart Passport Extra Europa 2 Rinnovi Abbonamento | AK5: TM9 D0 Pacchetto_giornaliero_RD100 Smart Passport Extra Europa 2 Rinnovi Ricaricabile | AN5: TM9 R100 Smart Passport Extra Europa 2 Rinnovi Abbonamento | AO5: VA | AS5: TM9 RD100 Smart Passport Dati Extra Europa 2 Rinnovi Abbonamento | AT5: DA | AX5: TM9 RD100 Smart Passport Dati Extra Europa 3 Rinnovi Abbonamento | AY5: Piani DATI | AZ5: ABB | BA5: TM9 Abbonamento P5 | BB5: Disabiliatato | BC5: D30_ABB | BF5: TM9 - D30 - 2rinnovi Extra Abbonamento | BH5: TM9 Abbonamento P30 | BO5: TM9 Abbonamento P100 - Condiviso Dati | BS5: AO
A6: =_xlfn.CONCAT('Att. Nuove Utenze_Portabilita'!#REF!,ELENCO!A4) -> #REF! | D6: TM9 Abbonamento P100 | E6: TM9 - RIC - PP | H6: TM9 P5 Pacchetto_giornaliero_R100 Smart Passport Extra Europa 3 Rinnovi Abbonamento | I6: TM9 - D30 - 3rinnovi Extra Abbonamento | L6: Profilo Intermedio - Android brand 1 | N6: SIM DATI SECONDARIA | P6: 30 | Q6: 4.92 | R6: 4 | S6: 4.92 | T6: 2.46 | U6: 4.92 | V6: 4 | X6: 2appy Afinna One | AH6: TM9 Abbonamento P5 - Condiviso Voce | AJ6: TM9 P0 Pacchetto_giornaliero_R100 Smart Passport Extra Europa 3 Rinnovi Abbonamento | AK6: TM9 D0 Pacchetto_giornaliero_RD100 Smart Passport Extra Europa 3 Rinnovi Ricaricabile | AN6: TM9 R100 Smart Passport Extra Europa 3 Rinnovi Abbonamento | AO6: VA | AS6: TM9 RD100 Smart Passport Dati Extra Europa 3 Rinnovi Abbonamento | AT6: DA | AX6: TM9 R100 Smart Passport Extra Europa 1 Rinnovo Abbonamento | AY6: Piani VOCE+DATI | AZ6: ABB | BA6: TM9 Abbonamento P30 | BB6: TM9 - D30 - 1rinnovo Extra Abbonamento | BC6: D30_ABB | BF6: TM9 - D30 - 3rinnovi Extra Abbonamento | BH6: TM9 Abbonamento P100 | BO6: TM9 Abbonamento Illimitato - Condiviso Dati | BS6: AQ
D7: TM9 Abbonamento Illimitato | E7: TM9 - ABB - D30 (30GB) | H7: TM9 P30 Pacchetto_giornaliero_R100 Smart Passport Extra Europa 1 Rinnovo Abbonamento | I7: TM9 - D30 - 4rinnovi Extra Abbonamento | L7: Profilo Intermedio - Android brand 2 | N7: X | Q7: 5.74 | R7: 5 | S7: 5.74 | T7: 3.28 | U7: 5.74 | V7: 5 | X7: BRITISH TELECOM | AH7: TM9 Abbonamento P0 - Condiviso Voce | AJ7: TM9 P5 Pacchetto_giornaliero_R100 Smart Passport Extra Europa 1 Rinnovo Abbonamento | AK7: TM9 D5 Pacchetto_giornaliero_RD100 Smart Passport Extra Europa 1 Rinnovo Ricaricabile | AM7: TM9 Abbonamento P30 - Condiviso Dati | AN7: Disabilitato | AO7: VB | AR7: TM9 Abbonamento Dati D30 | AS7: Disabilitato | AT7: DB | AX7: TM9 R100 Smart Passport Extra Europa 2 Rinnovi Abbonamento | AY7: Piani VOCE+DATI | AZ7: ABB | BA7: TM9 Abbonamento Dati D5 | BB7: TM9 - D30 - 2rinnovi Extra Abbonamento | BC7: D30_ABB | BF7: TM9 - D30 - 4rinnovi Extra Abbonamento | BH7: TM9 Abbonamento Illimitato | BI7: disabilitato | BO7: TM9 Abbonamento Premium - Condiviso Dati | BS7: AR
D8: TM9 Abbonamento Premium | E8: TM9 - ABB - D100 (100GB) | H8: TM9 P30 Pacchetto_giornaliero_R100 Smart Passport Extra Europa 2 Rinnovi Abbonamento | I8: TM9 - D30 - rinnovi illimitati Extra Abbonamento | L8: Profilo Intermedio - Android brand 3 | N8: N.A. | Q8: 6.56 | R8: 6 | S8: 6.56 | T8: 4.1 | U8: 6.56 | X8: BT ENIA MOBILE | AH8: TM9 Ricaricabile Illimitato - Condiviso Voce | AJ8: TM9 P5 Pacchetto_giornaliero_R100 Smart Passport Extra Europa 2 Rinnovi Abbonamento | AK8: TM9 D5 Pacchetto_giornaliero_RD100 Smart Passport Extra Europa 2 Rinnovi Ricaricabile | AN8: TM9 R100 Smart Passport Extra Europa 1 Rinnovo Abbonamento | AO8: VB | AS8: TM9 RD100 Smart Passport Dati Extra Europa 1 Rinnovo Abbonamento | AT8: DB | AX8: TM9 R100 Smart Passport Extra Europa 3 Rinnovi Abbonamento | AY8: Piani VOCE+DATI | AZ8: ABB | BA8: TM9 Abbonamento Dati D30 | BB8: TM9 - D30 - 3rinnovi Extra Abbonamento | BC8: D30_ABB | BF8: TM9 - D30 - rinnovi illimitati Extra Abbonamento | BH8: TM9 Abbonamento Premium | BI8: disabilitato | BO8: TM9 Ricaricabile P5 - Condiviso Dati | BS8: AP
D9: TM9 Ricaricabile P0 | E9: TM9 - ABB - DI (dati illimitati) | H9: TM9 P30 Pacchetto_giornaliero_R100 Smart Passport Extra Europa 3 Rinnovi Abbonamento | I9: TM9 - D100 - 1rinnovo Extra Abbonamento | L9: Profilo Top - Android brand 1 | N9: X | Q9: 7.38 | R9: 7 | S9: 7.38 | T9: 4.92 | U9: 7.38 | X9: BT Italia FULL MVNO | AH9: TM9 Ricaricabile P100 - Condiviso Voce | AJ9: TM9 P5 Pacchetto_giornaliero_R100 Smart Passport Extra Europa 3 Rinnovi Abbonamento | AK9: TM9 D5 Pacchetto_giornaliero_RD100 Smart Passport Extra Europa 3 Rinnovi Ricaricabile | AN9: TM9 R100 Smart Passport Extra Europa 2 Rinnovi Abbonamento | AO9: VB | AS9: TM9 RD100 Smart Passport Dati Extra Europa 2 Rinnovi Abbonamento | AT9: DB | AX9: TM9 RD100 Smart Passport Dati Extra Europa 1 Rinnovo Ricaricabile | AY9: Piani DATI | AZ9: RIC | BB9: TM9 - D30 - 4rinnovi Extra Abbonamento | BC9: D30_ABB | BF9: TM9 - D100 - 1rinnovo Extra Abbonamento | BH9: TM9 Ricaricabile P0 | BI9: disabilitato | BO9: TM9 Ricaricabile P30 - Condiviso Dati | BS9: AT
D10: TM9 Ricaricabile P5 | E10: TM9 - RIC - D30 (30GB) | H10: TM9 P100 Pacchetto_giornaliero_R100 Smart Passport Extra Europa 1 Rinnovo Abbonamento | I10: TM9 - D100 - 2rinnovi Extra Abbonamento | L10: Profilo Top - Android brand 2 | Q10: 8.2 | R10: 8 | S10: 8.2 | T10: 5.74 | U10: 8.2 | X10: CMLink Italy | AH10: TM9 Ricaricabile P30 - Condiviso Voce | AJ10: TM9 P100 Pacchetto_giornaliero_R100 Smart Passport Extra Europa 1 Rinnovo Abbonamento | AK10: TM9 D100 Pacchetto_giornaliero_RD100 Smart Passport Extra Europa 1 Rinnovo Ricaricabile | AN10: TM9 R100 Smart Passport Extra Europa 3 Rinnovi Abbonamento | AO10: VB | AS10: TM9 RD100 Smart Passport Dati Extra Europa 3 Rinnovi Abbonamento | AT10: DB | AX10: TM9 RD100 Smart Passport Dati Extra Europa 2 Rinnovi Ricaricabile | AY10: Piani DATI | AZ10: RIC | BB10: TM9 - D30 - rinnovi illimitati Extra Abbonamento | BC10: D30_ABB | BF10: TM9 - D100 - 2rinnovi Extra Abbonamento | BH10: TM9 Ricaricabile P5 | BO10: TM9 Ricaricabile P100 - Condiviso Dati | BS10: AV
D11: TM9 Ricaricabile P30 | E11: TM9 - RIC - D100 (100GB) | H11: TM9 P100 Pacchetto_giornaliero_R100 Smart Passport Extra Europa 2 Rinnovi Abbonamento | I11: TM9 - D100 - 3rinnovi Extra Abbonamento | L11: Profilo Top - Android brand 3 | Q11: 9.02 | R11: 9 | S11: 9.02 | T11: 6.56 | U11: 9.02 | X11: Conexo Technologies | AH11: TM9 Ricaricabile P5 - Condiviso Voce | AJ11: TM9 P100 Pacchetto_giornaliero_R100 Smart Passport Extra Europa 2 Rinnovi Abbonamento | AK11: TM9 D100 Pacchetto_giornaliero_RD100 Smart Passport Extra Europa 2 Rinnovi Ricaricabile | AM11: TM9 Abbonamento P100 - Condiviso Dati | AN11: Disabilitato | AO11: VC | AR11: TM9 Abbonamento Dati D100 | AS11: Disabilitato | AT11: DC | AX11: TM9 RD100 Smart Passport Dati Extra Europa 3 Rinnovi Ricaricabile | AY11: Piani DATI | AZ11: RIC | BF11: TM9 - D100 - 3rinnovi Extra Abbonamento | BH11: TM9 Ricaricabile P30 | BO11: TM9 Ricaricabile Illimitato - Condiviso Dati | BS11: BA
D12: TM9 Ricaricabile P100 | E12: TM9 - RIC - DI (dati illimitati) | H12: TM9 P100 Pacchetto_giornaliero_R100 Smart Passport Extra Europa 3 Rinnovi Abbonamento | I12: TM9 - D100 - 4rinnovi Extra Abbonamento | L12: Tablet - Android brand 1 | Q12: 9.84 | R12: 10 | S12: 9.84 | T12: 7.38 | U12: 9.84 | X12: COOP | AH12: TM9 Ricaricabile P0 - Condiviso Voce | AJ12: TM9 P100 Pacchetto_giornaliero_R100 Smart Passport Extra Europa 3 Rinnovi Abbonamento | AK12: TM9 D100 Pacchetto_giornaliero_RD100 Smart Passport Extra Europa 3 Rinnovi Ricaricabile | AN12: TM9 R100 Smart Passport Extra Europa 1 Rinnovo Abbonamento | AO12: VC | AS12: TM9 RD100 Smart Passport Dati Extra Europa 1 Rinnovo Abbonamento | AT12: DC | AX12: TM9 R100 Smart Passport Extra Europa 1 Rinnovo Ricaricabile | AY12: Piani VOCE+DATI | AZ12: RIC | BA12: TM9 Abbonamento P100 | BB12: Disabiliatato | BC12: D100_ABB | BF12: TM9 - D100 - 4rinnovi Extra Abbonamento | BH12: TM9 Ricaricabile P100 | BO12: TM9 Ricaricabile Premium - Condiviso Dati | BS12: BT
D13: TM9 Ricaricabile Illimitato | H13: TM9 PI Pacchetto_giornaliero_R100 Smart Passport Extra Europa 1 Rinnovo Abbonamento | I13: TM9 - D100 - illimitato Extra Abbonamento | L13: Tablet - Android brand 2 | Q13: 10.66 | R13: 11 | S13: 10.66 | T13: 8.2 | U13: 10.66 | X13: COOPItalia | AH13: TM9 Abbonamento P100 - Condiviso Dati | AJ13: TM9 PI Pacchetto_giornaliero_R100 Smart Passport Extra Europa 1 Rinnovo Abbonamento | AK13: TM9 DI Pacchetto_giornaliero_RD100 Smart Passport Extra Europa 1 Rinnovo Ricaricabile | AN13: TM9 R100 Smart Passport Extra Europa 2 Rinnovi Abbonamento | AO13: VC | AS13: TM9 RD100 Smart Passport Dati Extra Europa 2 Rinnovi Abbonamento | AT13: DC | AX13: TM9 R100 Smart Passport Extra Europa 2 Rinnovi Ricaricabile | AY13: Piani VOCE+DATI | AZ13: RIC | BA13: TM9 Abbonamento Dati D100 | BB13: TM9 - D100 - 1rinnovo Extra Abbonamento | BC13: D100_ABB | BF13: TM9 - D100 - illimitato Extra Abbonamento | BH13: TM9 Ricaricabile Illimitato | BI13: disabilitato | BO13: TM9 Abbonamento P0 - Condiviso Voce | BP13: TM9 Abbonamento Dati D5 - Condiviso Dati | BS13: BL
D14: TM9 Ricaricabile Premium | H14: TM9 PI Pacchetto_giornaliero_R100 Smart Passport Extra Europa 2 Rinnovi Abbonamento | I14: TM9 - D30 - 1rinnovo Extra Ricaricabile | L14: Tablet - IOS | Q14: 11.48 | R14: 12 | S14: 11.48 | U14: 11.48 | X14: DAILY TELECOM | AH14: TM9 Abbonamento P30 - Condiviso Dati | AJ14: TM9 PI Pacchetto_giornaliero_R100 Smart Passport Extra Europa 2 Rinnovi Abbonamento | AK14: TM9 DI Pacchetto_giornaliero_RD100 Smart Passport Extra Europa 2 Rinnovi Ricaricabile | AN14: TM9 R100 Smart Passport Extra Europa 3 Rinnovi Abbonamento | AO14: VC | AS14: TM9 RD100 Smart Passport Dati Extra Europa 3 Rinnovi Abbonamento | AT14: DC | AX14: TM9 R100 Smart Passport Extra Europa 3 Rinnovi Ricaricabile | AY14: Piani VOCE+DATI | AZ14: RIC | BB14: TM9 - D100 - 2rinnovi Extra Abbonamento | BC14: D100_ABB | BF14: TM9 - D30 - 1rinnovo Extra Ricaricabile | BH14: TM9 Ricaricabile Premium | BI14: disabilitato | BO14: TM9 Abbonamento P5 - Condiviso Voce | BP14: TM9 Abbonamento Dati D30 - Condiviso Dati | BS14: BN
D15: TM9 Abbonamento Dati D5 | H15: TM9 PI Pacchetto_giornaliero_R100 Smart Passport Extra Europa 3 Rinnovi Abbonamento | I15: TM9 - D30 - 2rinnovi Extra Ricaricabile | L15: Modem | Q15: 12.3 | R15: 13 | S15: 12.3 | U15: 12.3 | X15: Digi Mobil Full | AH15: TM9 Abbonamento P5 - Condiviso Dati | AJ15: TM9 PI Pacchetto_giornaliero_R100 Smart Passport Extra Europa 3 Rinnovi Abbonamento | AK15: TM9 DI Pacchetto_giornaliero_RD100 Smart Passport Extra Europa 3 Rinnovi Ricaricabile | AM15: TM9 Abbonamento Illimitato - Condiviso Dati | AN15: Disabilitato | AO15: VD | AR15: TM9 Abbonamento Dati Illimitati | AS15: Disabilitato | AT15: DD | BB15: TM9 - D100 - 3rinnovi Extra Abbonamento | BC15: D100_ABB | BF15: TM9 - D30 - 2rinnovi Extra Ricaricabile | BH15: TM9 Abbonamento Dati D5 | BO15: TM9 Abbonamento P30 - Condiviso Voce | BP15: TM9 Abbonamento Dati D100 - Condiviso Dati | BS15: BG
D16: TM9 Abbonamento Dati D30 | H16: TM9 PP Pacchetto_giornaliero_R100 Smart Passport Extra Europa 1 Rinnovo Abbonamento | I16: TM9 - D30 - 3rinnovi Extra Ricaricabile | Q16: 13.11 | R16: 14 | S16: 13.11 | U16: 13.11 | X16: DIGITEL ITALIA | AH16: TM9 Ricaricabile P100 - Condiviso Dati | AJ16: TM9 PP Pacchetto_giornaliero_R100 Smart Passport Extra Europa 1 Rinnovo Abbonamento | AK16: TM9 D0 Pacchetto_giornaliero_RD100 RIC Smart Passport Extra Europa 1 Rinnovo Ricaricabile | AN16: TM9 R100 Smart Passport Extra Europa 1 Rinnovo Abbonamento | AO16: VD | AS16: TM9 RD100 Smart Passport Dati Extra Europa 1 Rinnovo Abbonamento | AT16: DD | BB16: TM9 - D100 - 4rinnovi Extra Abbonamento | BC16: D100_ABB | BF16: TM9 - D30 - 3rinnovi Extra Ricaricabile | BH16: TM9 Abbonamento Dati D30 | BO16: TM9 Abbonamento P100 - Condiviso Voce | BP16: TM9 Abbonamento Dati Illimitati - Condiviso Dati | BS16: BI
D17: TM9 Abbonamento Dati D100 | H17: TM9 PP Pacchetto_giornaliero_R100 Smart Passport Extra Europa 2 Rinnovi Abbonamento | I17: TM9 - D30 - 4rinnovi Extra Ricaricabile | Q17: 13.93 | R17: 15 | S17: 13.93 | U17: 13.93 | X17: Elite Mobile | AH17: TM9 Ricaricabile P30 - Condiviso Dati | AJ17: TM9 PP Pacchetto_giornaliero_R100 Smart Passport Extra Europa 2 Rinnovi Abbonamento | AK17: TM9 D0 Pacchetto_giornaliero_RD100 RIC Smart Passport Extra Europa 2 Rinnovi Ricaricabile | AN17: TM9 R100 Smart Passport Extra Europa 2 Rinnovi Abbonamento | AO17: VD | AS17: TM9 RD100 Smart Passport Dati Extra Europa 2 Rinnovi Abbonamento | AT17: DD | BB17: TM9 - D100 - illimitato Extra Abbonamento | BC17: D100_ABB | BF17: TM9 - D30 - 4rinnovi Extra Ricaricabile | BH17: TM9 Abbonamento Dati D100 | BO17: TM9 Abbonamento Illimitato - Condiviso Voce | BP17: TM9 Ricaricabile Dati D5 - Condiviso Dati | BS17: BO
D18: TM9 Abbonamento Dati Illimitati | H18: TM9 PP Pacchetto_giornaliero_R100 Smart Passport Extra Europa 3 Rinnovi Abbonamento | I18: TM9 - D30 - rinnovi illimitati Extra Ricaricabile | Q18: 14.75 | R18: 16 | S18: 14.75 | U18: 14.75 | X18: ENEGAN | AH18: TM9 Ricaricabile P5 - Condiviso Dati | AJ18: TM9 PP Pacchetto_giornaliero_R100 Smart Passport Extra Europa 3 Rinnovi Abbonamento | AK18: TM9 D0 Pacchetto_giornaliero_RD100 RIC Smart Passport Extra Europa 3 Rinnovi Ricaricabile | AN18: TM9 R100 Smart Passport Extra Europa 3 Rinnovi Abbonamento | AO18: VD | AS18: TM9 RD100 Smart Passport Dati Extra Europa 3 Rinnovi Abbonamento | AT18: DD | BF18: TM9 - D30 - rinnovi illimitati Extra Ricaricabile | BH18: TM9 Abbonamento Dati Illimitati | BI18: disabilitato | BO18: TM9 Abbonamento Premium - Condiviso Voce | BP18: TM9 Ricaricabile Dati D30 - Condiviso Dati | BS18: BZ
D19: TM9 Ricaricabile Dati D5 | H19: TM9 P5 Pacchetto_giornaliero_R100 RIC Smart Passport Extra Europa 1 Rinnovo Ricaricabile | I19: TM9 - D100 - 1rinnovo Extra Ricaricabile | Q19: 15.57 | R19: 17 | S19: 15.57 | U19: 15.57 | X19: ERG MOBILE | AH19: TM9 Abbonamento P100 - Condiviso Voce+Dati | AJ19: TM9 P0 Pacchetto_giornaliero_R100 RIC Smart Passport Extra Europa 1 Rinnovo Abbonamento | AK19: TM9 D5 Pacchetto_giornaliero_RD100 RIC Smart Passport Extra Europa 1 Rinnovo Ricaricabile | AM19: TM9 Abbonamento Premium - Condiviso Dati | AN19: Disabilitato | AO19: VE | AR19: TM9 Ricaricabile Dati D5 | AS19: Disabilitato | AT19: DE | BA19: TM9 Ricaricabile P5 | BB19: Disabiliatato | BC19: D30_RIC | BF19: TM9 - D100 - 1rinnovo Extra Ricaricabile | BH19: TM9 Ricaricabile Dati D5 | BO19: TM9 Ricaricabile P0 - Condiviso Voce | BP19: TM9 Ricaricabile Dati D100 - Condiviso Dati | BS19: BS
D20: TM9 Ricaricabile Dati D30 | H20: TM9 P5 Pacchetto_giornaliero_R100 RIC Smart Passport Extra Europa 2 Rinnovi Ricaricabile | I20: TM9 - D100 - 2rinnovi Extra Ricaricabile | Q20: 16.39 | R20: 18 | S20: 16.39 | U20: 16.39 | X20: Fastweb Full | AH20: TM9 Abbonamento P30 - Condiviso Voce+Dati | AJ20: TM9 P0 Pacchetto_giornaliero_R100 RIC Smart Passport Extra Europa 2 Rinnovi Abbonamento | AK20: TM9 D5 Pacchetto_giornaliero_RD100 RIC Smart Passport Extra Europa 2 Rinnovi Ricaricabile | AN20: TM9 R100 Smart Passport Extra Europa 1 Rinnovo Abbonamento | AO20: VE | AS20: TM9 RD100 Smart Passport Dati Extra Europa 1 Rinnovo Ricaricabile | AT20: DE | BA20: TM9 Ricaricabile P30 | BB20: TM9 - D30 - 1rinnovo Extra Ricaricabile | BC20: D30_RIC | BF20: TM9 - D100 - 2rinnovi Extra Ricaricabile | BH20: TM9 Ricaricabile Dati D30 | BO20: TM9 Ricaricabile P5 - Condiviso Voce | BP20: TM9 Ricaricabile Dati Illimitati - Condiviso Dati | BS20: BR
D21: TM9 Ricaricabile Dati D100 | H21: TM9 P5 Pacchetto_giornaliero_R100 RIC Smart Passport Extra Europa 3 Rinnovi Ricaricabile | I21: TM9 - D100 - 3rinnovi Extra Ricaricabile | Q21: 17.21 | R21: 19 | S21: 17.21 | U21: 17.21 | X21: Fastweb Mobile | AH21: TM9 Abbonamento P5 - Condiviso Voce+Dati | AJ21: TM9 P0 Pacchetto_giornaliero_R100 RIC Smart Passport Extra Europa 3 Rinnovi Abbonamento | AK21: TM9 D5 Pacchetto_giornaliero_RD100 RIC Smart Passport Extra Europa 3 Rinnovi Ricaricabile | AN21: TM9 R100 Smart Passport Extra Europa 2 Rinnovi Abbonamento | AO21: VE | AS21: TM9 RD100 Smart Passport Dati Extra Europa 2 Rinnovi Ricaricabile | AT21: DE | BA21: TM9 Ricaricabile Dati D5 | BB21: TM9 - D30 - 2rinnovi Extra Ricaricabile | BC21: D30_RIC | BF21: TM9 - D100 - 3rinnovi Extra Ricaricabile | BH21: TM9 Ricaricabile Dati D100 | BO21: TM9 Ricaricabile P30 - Condiviso Voce | BS21: CA
D22: TM9 Ricaricabile Dati Illimitati | H22: TM9 P30 Pacchetto_giornaliero_R100 RIC Smart Passport Extra Europa 1 Rinnovo Ricaricabile | I22: TM9 - D100 - 4rinnovi Extra Ricaricabile | Q22: 18.03 | R22: 20 | S22: 18.03 | U22: 18.03 | X22: FEDER MOBILE | AH22: TM9 Ricaricabile P100 - Condiviso Voce+Dati | AJ22: TM9 P05 Pacchetto_giornaliero_R100 RIC Smart Passport Extra Europa 1 Rinnovo Abbonamento | AK22: TM9 D100 Pacchetto_giornaliero_RD100 RIC Smart Passport Extra Europa 1 Rinnovo Ricaricabile | AN22: TM9 R100 Smart Passport Extra Europa 3 Rinnovi Abbonamento | AO22: VE | AS22: TM9 RD100 Smart Passport Dati Extra Europa 3 Rinnovi Ricaricabile | AT22: DE | BA22: TM9 Ricaricabile Dati D30 | BB22: TM9 - D30 - 3rinnovi Extra Ricaricabile | BC22: D30_RIC | BF22: TM9 - D100 - 4rinnovi Extra Ricaricabile | BH22: TM9 Ricaricabile Dati Illimitati | BI22: disabilitato | BO22: TM9 Ricaricabile P100 - Condiviso Voce | BS22: CL
H23: TM9 P30 Pacchetto_giornaliero_R100 RIC Smart Passport Extra Europa 2 Rinnovi Ricaricabile | I23: TM9 - D100 - rinnovi illimitati Extra Ricaricabile | Q23: 18.85 | R23: 21 | S23: 18.85 | U23: 18.85 | X23: Foll-In (INTERMATICA) | AH23: TM9 Ricaricabile P30 - Condiviso Voce+Dati | AJ23: TM9 P5 Pacchetto_giornaliero_R100 RIC Smart Passport Extra Europa 2 Rinnovi Abbonamento | AK23: TM9 D100 Pacchetto_giornaliero_RD100 RIC Smart Passport Extra Europa 2 Rinnovi Ricaricabile | AM23: TM9 Ricaricabile P5 - Condiviso Dati | AN23: Disabilitato | AO23: VF | AR23: TM9 Ricaricabile Dati D30 | AS23: Disabilitato | AT23: DF | BB23: TM9 - D30 - 4rinnovi Extra Ricaricabile | BC23: D30_RIC | BF23: TM9 - D100 - illimitato Extra Ricaricabile | BO23: TM9 Ricaricabile Illimitato - Condiviso Voce | BS23: CB
H24: TM9 P30 Pacchetto_giornaliero_R100 RIC Smart Passport Extra Europa 3 Rinnovi Ricaricabile | Q24: 19.67 | R24: 22 | S24: 19.67 | U24: 19.67 | X24: Green ICN | AH24: TM9 Ricaricabile P5 - Condiviso Voce+Dati | AJ24: TM9 P5 Pacchetto_giornaliero_R100 RIC Smart Passport Extra Europa 3 Rinnovi Abbonamento | AK24: TM9 D100 Pacchetto_giornaliero_RD100 RIC Smart Passport Extra Europa 3 Rinnovi Ricaricabile | AN24: TM9 R100 Smart Passport Extra Europa 1 Rinnovo Ricaricabile | AO24: VF | AS24: TM9 RD100 Smart Passport Dati Extra Europa 1 Rinnovo Ricaricabile | AT24: DF | BB24: TM9 - D30 - rinnovi illimitati Extra Ricaricabile | BC24: D30_RIC | BO24: TM9 Ricaricabile Premium - Condiviso Voce | BS24: CI
H25: TM9 P100 Pacchetto_giornaliero_R100 RIC Smart Passport Extra Europa 1 Rinnovo Ricaricabile | Q25: 20.49 | R25: 23 | S25: 20.49 | U25: 20.49 | X25: KENA Mobile | AH25: TM9 Abbonamento Dati D100 - Condiviso Dati | AJ25: TM9 P100 Pacchetto_giornaliero_R100 RIC Smart Passport Extra Europa 1 Rinnovo Abbonamento | AK25: TM9 DI Pacchetto_giornaliero_RD100 RIC Smart Passport Dati Extra Europa 1 Rinnovo Ricaricabile | AN25: TM9 R100 Smart Passport Extra Europa 2 Rinnovi Ricaricabile | AO25: VF | AS25: TM9 RD100 Smart Passport Dati Extra Europa 2 Rinnovi Ricaricabile | AT25: DF | BO25: TM9 Abbonamento P0 - Condiviso Voce+Dati | BS25: CE
